BEGIN:VCALENDAR
VERSION:2.0
PRODID:-//Squarespace Inc/Squarespace 6//v6//EN
BEGIN:VEVENT
UID:54e7ff0ee4b0b896af97023d@squarespace.com
DTSTAMP:20180110T230900Z
DTSTART:20180606T230000Z
DTEND:20180609T130000Z
SUMMARY:2018 RDAQ Conference - QRMFN Family Program
GEO:-27.476792;153.0177
LOCATION:Brisbane Convention and Exhibiton Centre\, Merivale Street\, South 
 Brisbane\, QLD\, 4101\, Australia
END:VEVENT
END:VCALENDAR
