BEGIN:VCALENDAR
VERSION:2.0
PRODID:-//Squarespace Inc/Squarespace 6//v6//EN
BEGIN:VEVENT
UID:5c2c226cf950b760dd6dad40@squarespace.com
DTSTAMP:20190121T044638Z
DTSTART:20190606T063000Z
DTEND:20190608T133000Z
SUMMARY:2019 RDAQ Conference - QRMFN Family Program
GEO:-16.924233;145.778798
LOCATION:Pullman Cairns International
END:VEVENT
END:VCALENDAR
